BEGIN:VCALENDAR
VERSION:2.0
PRODID:-//wp-events-plugin.com//7.2.3.1//EN
TZID:America/Chicago
X-WR-TIMEZONE:America/Chicago
BEGIN:VEVENT
UID:186@hostetlerauction.com
DTSTART;TZID=America/Chicago:20250412T110000
DTEND;TZID=America/Chicago:20250412T110000
DTSTAMP:20250325T173339Z
URL:https://hostetlerauction.com/events/11th-annual-saint-charles-animal-a
 uction/
SUMMARY:11th Annual Saint Charles Animal Auction
DESCRIPTION:View a larger version of the flyer for details.
ATTACH;FMTTYPE=image/jpeg:https://hostetlerauction.com/wp-content/uploads/
 2025/03/st-charles-4-12-25.jpg
CATEGORIES:Consignment Auction
LOCATION:Saint Charles\, 13473 Co. Rd. 35\, St. Charles\, MN\, 55972\, Unit
 ed States
X-APPLE-STRUCTURED-LOCATION;VALUE=URI;X-ADDRESS=13473 Co. Rd. 35\, St. Char
 les\, MN\, 55972\, United States;X-APPLE-RADIUS=100;X-TITLE=Saint Charles:
 geo:0,0
END:VEVENT
BEGIN:VTIMEZONE
TZID:America/Chicago
X-LIC-LOCATION:America/Chicago
BEGIN:DAYLIGHT
DTSTART:20250309T030000
TZOFFSETFROM:-0600
TZOFFSETTO:-0500
TZNAME:CDT
END:DAYLIGHT
END:VTIMEZONE
END:VCALENDAR