BEGIN:VCALENDAR
VERSION:2.0
PRODID:-//wp-events-plugin.com//7.2.3.1//EN
TZID:America/Chicago
X-WR-TIMEZONE:America/Chicago
BEGIN:VEVENT
UID:187@hostetlerauction.com
DTSTART;TZID=America/Chicago:20250614T093000
DTEND;TZID=America/Chicago:20250614T093000
DTSTAMP:20250522T162919Z
URL:https://hostetlerauction.com/events/benefit-auction-center-for-special
 -children-2025/
SUMMARY:Benefit Auction - Center for Special Children
DESCRIPTION:Join us for the Benefit Auction on Saturday\, June 14th to supp
 ort the Center for Special Children at the La Farge Medical Center. The be
 nefit will be held at the Platteville Produce Auction\, 8521 County D\, Pl
 atteville. Auction begins at 9:30 a.m.\, with the Quilts and Theme Baskets
  starting at 11:00 a.m. Food will be available all day.\n\nView a larger v
 ersion of the flyer for details. (PDF)\n\nBelow is an example of one of th
 e quilts that will be available.\n\n
ATTACH;FMTTYPE=image/jpeg:https://hostetlerauction.com/wp-content/uploads/
 2025/05/5th-benefit-auction.jpg
CATEGORIES:Benefit Auction
END:VEVENT
BEGIN:VTIMEZONE
TZID:America/Chicago
X-LIC-LOCATION:America/Chicago
BEGIN:DAYLIGHT
DTSTART:20250309T030000
TZOFFSETFROM:-0600
TZOFFSETTO:-0500
TZNAME:CDT
END:DAYLIGHT
END:VTIMEZONE
END:VCALENDAR