BEGIN:VCALENDAR
VERSION:2.0
PRODID:-//wp-events-plugin.com//7.2.3.1//EN
TZID:America/Chicago
X-WR-TIMEZONE:America/Chicago
BEGIN:VEVENT
UID:118@hostetlerauction.com
DTSTART;TZID=America/Chicago:20251022T090000
DTEND;TZID=America/Chicago:20251022T090000
DTSTAMP:20251021T173636Z
URL:https://hostetlerauction.com/events/consignment-auction-2/
SUMMARY:Consignment Auction
DESCRIPTION:View a larger version of the flyer for details.\n\nNursery item
 s that didn't make the sale bill: approximately 30 evergreen trees\, appro
 ximately 30 fruit trees\, maple trees\, blueberry bushes\, and raspberry b
 ushes.
ATTACH;FMTTYPE=image/jpeg:https://hostetlerauction.com/wp-content/uploads/
 2025/03/10-22-consignment-auction-flyer.jpg
CATEGORIES:Consignment Auction
LOCATION:8521 Cty Road D\, 8521 Cty Road D\, Platteville\, WI\, 53818\, Uni
 ted States
X-APPLE-STRUCTURED-LOCATION;VALUE=URI;X-ADDRESS=8521 Cty Road D\, Plattevil
 le\, WI\, 53818\, United States;X-APPLE-RADIUS=100;X-TITLE=8521 Cty Road D
 :geo:0,0
END:VEVENT
BEGIN:VTIMEZONE
TZID:America/Chicago
X-LIC-LOCATION:America/Chicago
BEGIN:DAYLIGHT
DTSTART:20250309T030000
TZOFFSETFROM:-0600
TZOFFSETTO:-0500
TZNAME:CDT
END:DAYLIGHT
END:VTIMEZONE
END:VCALENDAR