BEGIN:VCALENDAR
VERSION:2.0
PRODID:-//wp-events-plugin.com//7.2.3.1//EN
TZID:America/Chicago
X-WR-TIMEZONE:America/Chicago
BEGIN:VEVENT
UID:117@hostetlerauction.com
DTSTART;TZID=America/Chicago:20250402T090000
DTEND;TZID=America/Chicago:20250402T090000
DTSTAMP:20250327T185119Z
URL:https://hostetlerauction.com/events/consignment-auction/
SUMMARY:2nd Annual Spring Consignment Sale
DESCRIPTION:View a larger version of the flyer for details. (PDF)
ATTACH;FMTTYPE=image/jpeg:https://hostetlerauction.com/wp-content/uploads/
 2025/03/2nd-annual-spring-consignment-sale.jpg
CATEGORIES:Consignment Auction
LOCATION:8521 Cty Road D\, 8521 Cty Road D\, Platteville\, WI\, 53818\, Uni
 ted States
X-APPLE-STRUCTURED-LOCATION;VALUE=URI;X-ADDRESS=8521 Cty Road D\, Plattevil
 le\, WI\, 53818\, United States;X-APPLE-RADIUS=100;X-TITLE=8521 Cty Road D
 :geo:0,0
END:VEVENT
BEGIN:VTIMEZONE
TZID:America/Chicago
X-LIC-LOCATION:America/Chicago
BEGIN:DAYLIGHT
DTSTART:20250309T030000
TZOFFSETFROM:-0600
TZOFFSETTO:-0500
TZNAME:CDT
END:DAYLIGHT
END:VTIMEZONE
END:VCALENDAR