BEGIN:VCALENDAR
VERSION:2.0
PRODID:-//wp-events-plugin.com//7.2.3.1//EN
TZID:America/Chicago
X-WR-TIMEZONE:America/Chicago
BEGIN:VEVENT
UID:126@hostetlerauction.com
DTSTART;TZID=America/Chicago:20251107T120000
DTEND;TZID=America/Chicago:20251107T120000
DTSTAMP:20250313T173859Z
URL:https://hostetlerauction.com/events/hay-auction-6/
SUMMARY:Hay Auction
DESCRIPTION:
CATEGORIES:Hay Auction
END:VEVENT
BEGIN:VTIMEZONE
TZID:America/Chicago
X-LIC-LOCATION:America/Chicago
BEGIN:STANDARD
DTSTART:20251102T010000
TZOFFSETFROM:-0500
TZOFFSETTO:-0600
TZNAME:CST
END:STANDARD
END:VTIMEZONE
END:VCALENDAR