BEGIN:VCALENDAR
VERSION:2.0
PRODID:-//wp-events-plugin.com//7.2.3.1//EN
TZID:America/Chicago
X-WR-TIMEZONE:America/Chicago
BEGIN:VEVENT
UID:189@hostetlerauction.com
DTSTART;TZID=America/Chicago:20251018T090000
DTEND;TZID=America/Chicago:20251018T090000
DTSTAMP:20251008T175455Z
URL:https://hostetlerauction.com/events/liquidation-auction-joel-peggy-bev
 erley-estate/
SUMMARY:Liquidation Auction! Joel & Peggy Beverley Estate
DESCRIPTION:&nbsp\;\nView a larger version of the flyer for details.\nSome 
 of the available items at the liquidation auction can be found below.\n&nb
 sp\;\n\n
ATTACH;FMTTYPE=image/jpeg:https://hostetlerauction.com/wp-content/uploads/
 2025/10/Beverly-Estate-Sale.jpg
CATEGORIES:Liquidation Auction
LOCATION:Joel & Peggy Beverley Estate\, 7552 US Hwy 12\, Sauk City\, WI\, 5
 3583\, United States
X-APPLE-STRUCTURED-LOCATION;VALUE=URI;X-ADDRESS=7552 US Hwy 12\, Sauk City\
 , WI\, 53583\, United States;X-APPLE-RADIUS=100;X-TITLE=Joel & Peggy Bever
 ley Estate:geo:0,0
END:VEVENT
BEGIN:VTIMEZONE
TZID:America/Chicago
X-LIC-LOCATION:America/Chicago
BEGIN:DAYLIGHT
DTSTART:20250309T030000
TZOFFSETFROM:-0600
TZOFFSETTO:-0500
TZNAME:CDT
END:DAYLIGHT
END:VTIMEZONE
END:VCALENDAR