BEGIN:VCALENDAR
VERSION:2.0
PRODID:-//wp-events-plugin.com//7.2.3.1//EN
TZID:America/Chicago
X-WR-TIMEZONE:America/Chicago
BEGIN:VEVENT
UID:119@hostetlerauction.com
DTSTART;TZID=America/Chicago:20250911T090000
DTEND;TZID=America/Chicago:20250911T090000
DTSTAMP:20250313T173249Z
URL:https://hostetlerauction.com/events/special-pumpkin-sale-6/
SUMMARY:Special Pumpkin Sale
DESCRIPTION:
CATEGORIES:9:00 am Special Pumpkin Sale
LOCATION:Platteville Produce Auction\, 8521 County Rd D\, Platteville\, WI\
 , 53818\, United States
X-APPLE-STRUCTURED-LOCATION;VALUE=URI;X-ADDRESS=8521 County Rd D\, Plattevi
 lle\, WI\, 53818\, United States;X-APPLE-RADIUS=100;X-TITLE=Platteville Pr
 oduce Auction:geo:0,0
END:VEVENT
BEGIN:VTIMEZONE
TZID:America/Chicago
X-LIC-LOCATION:America/Chicago
BEGIN:DAYLIGHT
DTSTART:20250309T030000
TZOFFSETFROM:-0600
TZOFFSETTO:-0500
TZNAME:CDT
END:DAYLIGHT
END:VTIMEZONE
END:VCALENDAR